BEGIN:VCALENDAR
PRODID:-//eluceo/ical//2.0/EN
VERSION:2.0
CALSCALE:GREGORIAN
BEGIN:VEVENT
UID:09cea6939ce9220c12034d21c58a6e2d
DTSTAMP:20260419T185434Z
SUMMARY:Maimonides Society Brunch: Colorectal and GI Health
DESCRIPTION:Shalom Lehigh Valley\nCommunity Calendar\nhttps://shalomlehighv
 alley.org/calendar/1015am-jflv-maimonides-society-brunchmarch2017-213330\n
 \nTwo Maimonides Society doctors are teaming up for a brunch and learn on 
 two interesting and important topics. \n\nAs March is Colon Cancer Awaren
 ess Month\, Dr. David Bub will discuss screening\, surgical advancements a
 nd individualized therapy in his talk "Winning the Battle Against Colon Ca
 ncer. A Three-Pronged Approach." \n\nDr. Andrew Schwartz will then take o
 n “Diagnosis and Evaluation of Abdominal Pain: Tricks and Clinical Pearl
 s from a Gastroenterologist.” \n\nThe program is free ...
DTSTART;TZID=America/New_York:20170312T101500
DTEND;TZID=America/New_York:20170312T114500
END:VEVENT
END:VCALENDAR
