BEGIN:VCALENDAR
PRODID:-//eluceo/ical//2.0/EN
VERSION:2.0
CALSCALE:GREGORIAN
BEGIN:VEVENT
UID:f42b702780d4b32ddd702db6b0f74612
DTSTAMP:20260420T113032Z
SUMMARY:10:30 am JCC Art Gallery Committee Meeting
DESCRIPTION:Shalom Lehigh Valley\nCommunity Calendar\nhttps://shalomlehighv
 alley.org/calendar/1030-am-jcc-art-gallery-committee-meeting-March-2015-67
 581\n\nContact Karla Lyle: klyle@lvjcc.org or 610-435-3571
DTSTART;TZID=America/New_York:20150309T103000
DTEND;TZID=America/New_York:20150309T120000
END:VEVENT
END:VCALENDAR
