BEGIN:VCALENDAR
PRODID:-//eluceo/ical//2.0/EN
VERSION:2.0
CALSCALE:GREGORIAN
BEGIN:VEVENT
UID:31c514e94dac3a58635fa3a81c83d454
DTSTAMP:20260420T163304Z
SUMMARY:10:30 am JCC Art Gallery Committee Meeting
DESCRIPTION:Shalom Lehigh Valley\nCommunity Calendar\nhttps://shalomlehighv
 alley.org/calendar/1030-am-jcc-art-gallery-committee-meeting-Sept-2014-675
 76\n\nContact Karla Lyle: klyle@lvjcc.org or 610-435-3571
DTSTART;TZID=America/New_York:20140908T103000
DTEND;TZID=America/New_York:20140908T120000
END:VEVENT
END:VCALENDAR
