BEGIN:VCALENDAR
PRODID:-//eluceo/ical//2.0/EN
VERSION:2.0
CALSCALE:GREGORIAN
BEGIN:VEVENT
UID:093a59eef5ebb389b043633305ecfa2a
DTSTAMP:20260420T105122Z
SUMMARY:10:30 am JCC Author Series Event:  The Word Mavens
DESCRIPTION:Shalom Lehigh Valley\nCommunity Calendar\nhttps://shalomlehighv
 alley.org/calendar/1030-am-jcc-author-series-event-10-29-17-221327\n\nCont
 act Monica Friess at mfriess@lvjcc.org or 610-428-0140.
DTSTART;TZID=America/New_York:20171029T103000
DTEND;TZID=America/New_York:20171029T120000
END:VEVENT
END:VCALENDAR
