BEGIN:VCALENDAR
PRODID:-//eluceo/ical//2.0/EN
VERSION:2.0
CALSCALE:GREGORIAN
BEGIN:VEVENT
UID:91f563dff9110cf40550116450f08a4a
DTSTAMP:20260420T214233Z
SUMMARY:10:30 am TBE Golf Outing
DESCRIPTION:Shalom Lehigh Valley\nCommunity Calendar\nhttps://shalomlehighv
 alley.org/calendar/1030-am-tbe-golf-outing-403511\n\nFor more information 
 on the Golf Tournement\, please visit our website - https://www.bethelall
 entown.org/
DTSTART;TZID=America/New_York:20220826T103000
DTEND;TZID=America/New_York:20220826T160000
END:VEVENT
END:VCALENDAR
