BEGIN:VCALENDAR
PRODID:-//eluceo/ical//2.0/EN
VERSION:2.0
CALSCALE:GREGORIAN
BEGIN:VEVENT
UID:c6809402ab341c240faed4e2762fabef
DTSTAMP:20260420T022034Z
SUMMARY:10:30am JCC Coffee & Conversation: Friendship Circle End Of Summer 
 Program
DESCRIPTION:Shalom Lehigh Valley\nCommunity Calendar\nhttps://shalomlehighv
 alley.org/calendar/1030am-jcc-coffee-conversation-friendship-circle-end-of
 -summer-program-279223\n\nFree to all Friendship Circle members and prospe
 ctive members. Reconnect with friends and make new ones at a casual get-to
 gether featuring bagels\, coffee\, fruit and pastries. We will be acceptin
 g dues for the coming year ($30).\n\nRSVP by Wednesday\, August 22\, to Am
 y Sams at asams@lvjcc.org or by calling 610-435-3571 ext. 182.\n\n 
DTSTART;TZID=America/New_York:20180827T103000
DTEND;TZID=America/New_York:20180827T120000
END:VEVENT
END:VCALENDAR
