BEGIN:VCALENDAR
PRODID:-//eluceo/ical//2.0/EN
VERSION:2.0
CALSCALE:GREGORIAN
BEGIN:VEVENT
UID:c791bfb312929540aed8864a76df19b3
DTSTAMP:20260420T092043Z
SUMMARY:10:45 am JCC ECE Shabbat for Parents
DESCRIPTION:Shalom Lehigh Valley\nCommunity Calendar\nhttps://shalomlehighv
 alley.org/calendar/1045-am-jcc-ece-shabbat-for-parents-6-5-15-62133\n\nCon
 tact Sandy Newman: snewman@lvjcc.org or 610-435-3571 x115
DTSTART;TZID=America/New_York:20150605T104500
DTEND;TZID=America/New_York:20150605T113000
END:VEVENT
END:VCALENDAR
