BEGIN:VCALENDAR
PRODID:-//eluceo/ical//2.0/EN
VERSION:2.0
CALSCALE:GREGORIAN
BEGIN:VEVENT
UID:fe1b78a53b8609a56f439051c949011f
DTSTAMP:20260420T034810Z
SUMMARY:10:45 am JCC Grandbuddies at the J
DESCRIPTION:Shalom Lehigh Valley\nCommunity Calendar\nhttps://shalomlehighv
 alley.org/calendar/1045-am-jcc-grandbuddies-at-the-j-April-2015-131582\n\n
 $5 per Shabbat. Contact Melissa Hakim at mhakim@lvjcc.org or 610-435-3571.
  
DTSTART;TZID=America/New_York:20150424T104500
DTEND;TZID=America/New_York:20150424T130000
END:VEVENT
END:VCALENDAR
