BEGIN:VCALENDAR
PRODID:-//eluceo/ical//2.0/EN
VERSION:2.0
CALSCALE:GREGORIAN
BEGIN:VEVENT
UID:0084b727cdfac2ba5ba415a10f5499cf
DTSTAMP:20260420T003427Z
SUMMARY:10:00 am JCC Community Blood Drive
DESCRIPTION:Shalom Lehigh Valley\nCommunity Calendar\nhttps://shalomlehighv
 alley.org/calendar/10am-jcc-community-blood-drive-7-12-15-148538\n\nContac
 t Sandy Newman: snewman@lvjcc.org or 610-435-3571.
DTSTART;TZID=America/New_York:20150712T100000
DTEND;TZID=America/New_York:20150712T140000
END:VEVENT
END:VCALENDAR
