BEGIN:VCALENDAR
PRODID:-//eluceo/ical//2.0/EN
VERSION:2.0
CALSCALE:GREGORIAN
BEGIN:VEVENT
UID:1380033d9f31f8606c00a99890deb355
DTSTAMP:20260420T175914Z
SUMMARY:10:00 am JCC Jewish War Veterans
DESCRIPTION:Shalom Lehigh Valley\nCommunity Calendar\nhttps://shalomlehighv
 alley.org/calendar/10am-jcc-jewish-war-vets-sept-to-nov-2017-225387\n\nCon
 tact Commander Sheila Berg at 610-360-1267 or sh-berg1@hotmail.com
DTSTART;TZID=America/New_York:20170910T100000
DTEND;TZID=America/New_York:20170910T130000
END:VEVENT
END:VCALENDAR
