BEGIN:VCALENDAR
PRODID:-//eluceo/ical//2.0/EN
VERSION:2.0
CALSCALE:GREGORIAN
BEGIN:VEVENT
UID:391b53b030bc01f8a23cea2fc9ee7770
DTSTAMP:20260420T200623Z
SUMMARY:10:00 am JCC Sisterhood Self Defense Brunch
DESCRIPTION:Shalom Lehigh Valley\nCommunity Calendar\nhttps://shalomlehighv
 alley.org/calendar/10am-jcc-sisterhood-self-defense-brunch-4-17-16-175215\
 n\nMore details to be announced. Contact Jodi Lovenwirth: jlovenwirth@lvjc
 c.org or 610-435-3571.
DTSTART;TZID=America/New_York:20160417T100000
DTEND;TZID=America/New_York:20160417T120000
END:VEVENT
END:VCALENDAR
