BEGIN:VCALENDAR
PRODID:-//eluceo/ical//2.0/EN
VERSION:2.0
CALSCALE:GREGORIAN
BEGIN:VEVENT
UID:f5971499d24adbd2e3e5978902cb6cbc
DTSTAMP:20260419T161300Z
SUMMARY:11:00 am JCC PrimeTime Mitzvah Knitters
DESCRIPTION:Shalom Lehigh Valley\nCommunity Calendar\nhttps://shalomlehighv
 alley.org/calendar/11-am-jcc-primetime-mitzvah-knitters-126999\n\nContact 
 Melissa Hakim at mhakim@lvjcc.org or 610-435-3571. 
DTSTART;TZID=America/New_York:20150305T110000
DTEND;TZID=America/New_York:20150305T120000
END:VEVENT
END:VCALENDAR
