BEGIN:VCALENDAR
PRODID:-//eluceo/ical//2.0/EN
VERSION:2.0
CALSCALE:GREGORIAN
BEGIN:VEVENT
UID:bada1fbe96a9c4f295562fc47e5c77cf
DTSTAMP:20260422T043015Z
SUMMARY:11:00 am JCC Friendship Circle Program
DESCRIPTION:Shalom Lehigh Valley\nCommunity Calendar\nhttps://shalomlehighv
 alley.org/calendar/1100-am-jcc-friendship-circle-program-11-14-16-182480\n
 \nContact Martin Weinberg at 610-435-3571.
DTSTART;TZID=America/New_York:20161114T110000
DTEND;TZID=America/New_York:20161114T140000
END:VEVENT
END:VCALENDAR
