BEGIN:VCALENDAR
PRODID:-//eluceo/ical//2.0/EN
VERSION:2.0
CALSCALE:GREGORIAN
BEGIN:VEVENT
UID:d8ba13ca5eb8bb7cd6d1a53f2b17fa79
DTSTAMP:20260420T121407Z
SUMMARY:11:00 am JCC PrimeTime Current Events
DESCRIPTION:Shalom Lehigh Valley\nCommunity Calendar\nhttps://shalomlehighv
 alley.org/calendar/1100-am-jcc-primetime-current-events-feb-march-127006\n
 \nJoin PrimeTime for a lively discussion on current events. Moderated by R
 abbi Jonathan Gerard.\n\nFree and brought to you by PrimeTime at the J\, a
  division of Jewish Senior Life Connection.
DTSTART;TZID=America/New_York:20150212T110000
DTEND;TZID=America/New_York:20150212T120000
END:VEVENT
END:VCALENDAR
