BEGIN:VCALENDAR
PRODID:-//eluceo/ical//2.0/EN
VERSION:2.0
CALSCALE:GREGORIAN
BEGIN:VEVENT
UID:cb26580f2214b9d86da40065066623c1
DTSTAMP:20260419T173911Z
SUMMARY:11:00 am JCC Spring Nearly New Sale 
DESCRIPTION:Shalom Lehigh Valley\nCommunity Calendar\nhttps://shalomlehighv
 alley.org/calendar/1100-am-jcc-spring-nearly-new-sale-5-8-17-182243\n\nCon
 tact Sandy Newman: snewman@lvjcc.org or 610-435-3571 x115.
DTSTART;TZID=America/New_York:20170508T110000
DTEND;TZID=America/New_York:20170508T180000
END:VEVENT
END:VCALENDAR
