BEGIN:VCALENDAR
PRODID:-//eluceo/ical//2.0/EN
VERSION:2.0
CALSCALE:GREGORIAN
BEGIN:VEVENT
UID:554b6274471b38fecd6727582c42dc1d
DTSTAMP:20260419T215043Z
SUMMARY:11:00AM JCC Nearly New
DESCRIPTION:Shalom Lehigh Valley\nCommunity Calendar\nhttps://shalomlehighv
 alley.org/calendar/1100am-jcc-nearly-new-3727\n\n11:00AM JCC Nearly New
DTSTART;TZID=America/New_York:20140519T110000
DTEND;TZID=America/New_York:20140519T170000
END:VEVENT
END:VCALENDAR
