BEGIN:VCALENDAR
PRODID:-//eluceo/ical//2.0/EN
VERSION:2.0
CALSCALE:GREGORIAN
BEGIN:VEVENT
UID:b2c95a7b0c810662f62a933e9949647e
DTSTAMP:20260423T105117Z
SUMMARY:11:30 am Friendship Circle Program
DESCRIPTION:Shalom Lehigh Valley\nCommunity Calendar\nhttps://shalomlehighv
 alley.org/calendar/1130-am-friendship-circle-program-jan-292075\n\nFriends
 hip Circle holds a weekly gathering for adults 50 years and up. All are we
 lcome to enjoy lunch and a program. Programs vary and often include musica
 l entertainment\, special speakers\, demonstrations and hands-on activitie
 s. Friendship Circle is a wonderful opportunity to connect with others in 
 the community. Gatherings are on  Mondays 11:30am - 2:00pm  and include
  a lunch and a program. Please check the JCC Website https://lvjcc.org/fr
 iendshipcircle or ask the Welcome Desk for curr...
DTSTART;TZID=America/New_York:20190107T113000
DTEND;TZID=America/New_York:20190107T140000
END:VEVENT
END:VCALENDAR
