BEGIN:VCALENDAR
PRODID:-//eluceo/ical//2.0/EN
VERSION:2.0
CALSCALE:GREGORIAN
BEGIN:VEVENT
UID:c5d13cf65f3aa05414077a9fff08232a
DTSTAMP:20260419T155551Z
SUMMARY:11:30 AM KI Latke Making with Chef Eric
DESCRIPTION:Shalom Lehigh Valley\nCommunity Calendar\nhttps://shalomlehighv
 alley.org/calendar/1130-am-ki-latke-making-with-chef-eric-423901\n\nLatke 
 Making with Chef Eric\n\nSunday\, December 18\, 11:30 am\nJoin Chef Eric w
 ho will be leading a crew of intrepid latke fryers.
DTSTART;TZID=America/New_York:20221218T113000
DTEND;TZID=America/New_York:20221218T133000
END:VEVENT
END:VCALENDAR
