BEGIN:VCALENDAR
PRODID:-//eluceo/ical//2.0/EN
VERSION:2.0
CALSCALE:GREGORIAN
BEGIN:VEVENT
UID:74f9481cf0d036c48f226d33c71426d0
DTSTAMP:20260423T214419Z
SUMMARY:11:30AM JCC ECE Summer Shabbats
DESCRIPTION:Shalom Lehigh Valley\nCommunity Calendar\nhttps://shalomlehighv
 alley.org/calendar/1130am-jcc-ece-summer-shabbats-3580\n\n11:30AM JCC ECE 
 Summer Shabbats
DTSTART;TZID=America/New_York:20130614T113000
DTEND;TZID=America/New_York:20130614T120000
END:VEVENT
END:VCALENDAR
