BEGIN:VCALENDAR
PRODID:-//eluceo/ical//2.0/EN
VERSION:2.0
CALSCALE:GREGORIAN
BEGIN:VEVENT
UID:b3d03f06161f1548e88f63eb94297260
DTSTAMP:20260420T145707Z
SUMMARY:11:45am JCC Friendship Circle
DESCRIPTION:Shalom Lehigh Valley\nCommunity Calendar\nhttps://shalomlehighv
 alley.org/calendar/1145am-jcc-friendship-circle-Nov-385579\n\nJoin Friends
 hip Circle for luncheon and program.
DTSTART;TZID=America/New_York:20211115T114500
DTEND;TZID=America/New_York:20211115T140000
END:VEVENT
END:VCALENDAR
