BEGIN:VCALENDAR
PRODID:-//eluceo/ical//2.0/EN
VERSION:2.0
CALSCALE:GREGORIAN
BEGIN:VEVENT
UID:a8e5b845b2e06652dfd9c987c6d47d6d
DTSTAMP:20260419T230658Z
SUMMARY:11:45am- JCC Friendship Circle
DESCRIPTION:Shalom Lehigh Valley\nCommunity Calendar\nhttps://shalomlehighv
 alley.org/calendar/1145am-jcc-friendship-circlefeb-391430\n\nA weekly soci
 al gathering including special programming. Programs vary and often includ
 e musical entertainment\, special speakers\, demonstrations or hands-on ac
 tivities. Friendship Circle is a wonderful opportunity to connect with oth
 ers in the community. \n\nMondays | 11:45am-2pm | Ages: 50+ | at the JCC
 \nAnnual Membership Fee: $36
DTSTART;TZID=America/New_York:20220228T114500
DTEND;TZID=America/New_York:20220228T140000
END:VEVENT
END:VCALENDAR
