BEGIN:VCALENDAR
PRODID:-//eluceo/ical//2.0/EN
VERSION:2.0
CALSCALE:GREGORIAN
BEGIN:VEVENT
UID:3270139cab050e4f47fa30d28b129433
DTSTAMP:20260423T120739Z
SUMMARY:11:45am JCC Friendship Circle
DESCRIPTION:Shalom Lehigh Valley\nCommunity Calendar\nhttps://shalomlehighv
 alley.org/calendar/1145am-jcc-friendship-circlefeb-398168\n\n2/28- A third
  eye presents Thi Chi and Qi Gong with Alice Perry\n\nA weekly social gath
 ering including special programming. Programs vary and often include music
 al entertainment\, special speakers\, demonstrations or hands-on activitie
 s. Friendship Circle is a wonderful opportunity to connect with others in 
 the community. \n\nMondays | 11:45am-2pm | Ages: 50+ | at the JCC\nAnnua
 l Membership Fee: $36\n\nQuestions or to sign up\, please contact Beth Kus
 hnick at bkushnick@lvjcc.org or 610-435-3571
DTSTART;TZID=America/New_York:20220228T114500
DTEND;TZID=America/New_York:20220228T140000
END:VEVENT
END:VCALENDAR
