BEGIN:VCALENDAR
PRODID:-//eluceo/ical//2.0/EN
VERSION:2.0
CALSCALE:GREGORIAN
BEGIN:VEVENT
UID:9078f595247a15524e3aee0d2bddc586
DTSTAMP:20260422T055622Z
SUMMARY:11:45am JCC Friendship Circle
DESCRIPTION:Shalom Lehigh Valley\nCommunity Calendar\nhttps://shalomlehighv
 alley.org/calendar/1145am-jcc-friendship-circlefeb-398169\n\n3/7: Israeli 
 Dessert with Gavriel Siman-Tov. Make delicious the famous chocolate Israel
 i treats\, "Chocolate Balls"  with the JFLV Community Shaliach. You will 
 love this delicious day!\n\nA weekly social gathering including special pr
 ogramming. Programs vary and often include musical entertainment\, special
  speakers\, demonstrations or hands-on activities. Friendship Circle is a 
 wonderful opportunity to connect with others in the community. \n\nMonday
 s | 11:45am-2pm | Ages: 50+ | at the JCC\n...
DTSTART;TZID=America/New_York:20220307T114500
DTEND;TZID=America/New_York:20220307T140000
END:VEVENT
END:VCALENDAR
