BEGIN:VCALENDAR
PRODID:-//eluceo/ical//2.0/EN
VERSION:2.0
CALSCALE:GREGORIAN
BEGIN:VEVENT
UID:38cca188f2c61ee858e68156824f9c8c
DTSTAMP:20260422T055632Z
SUMMARY:11:45am JCC Friendship Circle
DESCRIPTION:Shalom Lehigh Valley\nCommunity Calendar\nhttps://shalomlehighv
 alley.org/calendar/1145am-jcc-friendship-circlefeb-398170\n\n3/14-\nIntera
 ctive and Fun Presentation with Butterfly Expert Rick Mikula\," the Butter
 fly Guy"  Everything You Never Knew about Beautiful Butterflies. Rick has
  been delighting Audiences of all ages for over 35 Years!\n\nA weekly soci
 al gathering including special programming. Programs vary and often includ
 e musical entertainment\, special speakers\, demonstrations or hands-on ac
 tivities. Friendship Circle is a wonderful opportunity to connect with oth
 ers in the community. \n\nMondays | 11:45a...
DTSTART;TZID=America/New_York:20220314T114500
DTEND;TZID=America/New_York:20220314T140000
END:VEVENT
END:VCALENDAR
