BEGIN:VCALENDAR
PRODID:-//eluceo/ical//2.0/EN
VERSION:2.0
CALSCALE:GREGORIAN
BEGIN:VEVENT
UID:55ea326e7f7cefff030a11f75a806225
DTSTAMP:20260422T055648Z
SUMMARY:11:45am JCC Friendship Circle
DESCRIPTION:Shalom Lehigh Valley\nCommunity Calendar\nhttps://shalomlehighv
 alley.org/calendar/1145am-jcc-friendship-circlefeb-398171\n\n3/21- Medical
  Marijuana- Everything you Need to Know- Presented by Michelle Moleski\, D
 irector of Community Outreach- Terrasend/Apothecarium Dispensary.\n\nA wee
 kly social gathering including special programming. Programs vary and ofte
 n include musical entertainment\, special speakers\, demonstrations or han
 ds-on activities. Friendship Circle is a wonderful opportunity to connect 
 with others in the community. \n\nMondays | 11:45am-2pm | Ages: 50+ | at
  the JCC\nAnnual Membership Fee: $36\n\nQue...
DTSTART;TZID=America/New_York:20220321T114500
DTEND;TZID=America/New_York:20220321T140000
END:VEVENT
END:VCALENDAR
