BEGIN:VCALENDAR
PRODID:-//eluceo/ical//2.0/EN
VERSION:2.0
CALSCALE:GREGORIAN
BEGIN:VEVENT
UID:83a7f915e1eeaee25ab87845d8dcc9da
DTSTAMP:20260422T055658Z
SUMMARY:11:45am JCC Friendship Circle
DESCRIPTION:Shalom Lehigh Valley\nCommunity Calendar\nhttps://shalomlehighv
 alley.org/calendar/1145am-jcc-friendship-circlefeb-398172\n\n3/28- Join th
 e painting craze with Artist Preet Kaur. You will have the opportunity to 
 create a beautiful piece of Art with the direction of this very talented A
 rtist.\n\nA weekly social gathering including special programming. Program
 s vary and often include musical entertainment\, special speakers\, demons
 trations or hands-on activities. Friendship Circle is a wonderful opportun
 ity to connect with others in the community. \n\nMondays | 11:45am-2pm | 
 Ages: 50+ | at the JCC\nAnnual Membership...
DTSTART;TZID=America/New_York:20220328T114500
DTEND;TZID=America/New_York:20220328T140000
END:VEVENT
END:VCALENDAR
