BEGIN:VCALENDAR
PRODID:-//eluceo/ical//2.0/EN
VERSION:2.0
CALSCALE:GREGORIAN
BEGIN:VEVENT
UID:fd07b7350f7a771be17bd26f8efa82c9
DTSTAMP:20260422T200802Z
SUMMARY:11:45am JCC Friendship Circle
DESCRIPTION:Shalom Lehigh Valley\nCommunity Calendar\nhttps://shalomlehighv
 alley.org/calendar/1145am-jcc-friendship-circlefeb-398173\n\n4//4 Learn ho
 w to Decorate Beautiful Cupcakes with Kingsbury Baker\,  custom and handc
 rafted bakers who make treats for all occasions.\n\nA weekly social gather
 ing including special programming. Programs vary and often include musical
  entertainment\, special speakers\, demonstrations or hands-on activities.
  Friendship Circle is a wonderful opportunity to connect with others in th
 e community. \n\nMondays | 11:45am-2pm | Ages: 50+ | at the JCC\nAnnual 
 Membership Fee: $36\n\nQuestions or to sign...
DTSTART;TZID=America/New_York:20220404T114500
DTEND;TZID=America/New_York:20220404T140000
END:VEVENT
END:VCALENDAR
