BEGIN:VCALENDAR
PRODID:-//eluceo/ical//2.0/EN
VERSION:2.0
CALSCALE:GREGORIAN
BEGIN:VEVENT
UID:cd5018b9c725b07d81761a5bac2394a5
DTSTAMP:20260424T144436Z
SUMMARY:11:45am JCC Friendship Circle
DESCRIPTION:Shalom Lehigh Valley\nCommunity Calendar\nhttps://shalomlehighv
 alley.org/calendar/1145am-jcc-friendship-circlefeb-398174\n\n4/11- Enjoy t
 he Interactive and Fun Passover Seder !!! Includes a Passover Play and Edi
 ble Candy Plagues!!\n\nA weekly social gathering including special program
 ming. Programs vary and often include musical entertainment\, special spea
 kers\, demonstrations or hands-on activities. Friendship Circle is a wonde
 rful opportunity to connect with others in the community. \n\nMondays | 1
 1:45am-2pm | Ages: 50+ | at the JCC\nAnnual Membership Fee: $36\n\nQuesti
 ons or to sign up\, please contact Beth Kus...
DTSTART;TZID=America/New_York:20220411T114500
DTEND;TZID=America/New_York:20220411T140000
END:VEVENT
END:VCALENDAR
