BEGIN:VCALENDAR
PRODID:-//eluceo/ical//2.0/EN
VERSION:2.0
CALSCALE:GREGORIAN
BEGIN:VEVENT
UID:14847309d72aa7f3b8da4f6f619e266d
DTSTAMP:20260422T171138Z
SUMMARY:11:45am JCC Friendship Circle
DESCRIPTION:Shalom Lehigh Valley\nCommunity Calendar\nhttps://shalomlehighv
 alley.org/calendar/1145am-jcc-friendship-circlefeb-398175\n\n4/25- Cold No
 se Lodge\n\nA weekly social gathering including special programming. Progr
 ams vary and often include musical entertainment\, special speakers\, demo
 nstrations or hands-on activities. Friendship Circle is a wonderful opport
 unity to connect with others in the community. \n\nMondays | 11:45am-2pm 
 | Ages: 50+ | at the JCC\nAnnual Membership Fee: $36\n\nQuestions or to s
 ign up\, please contact Beth Kushnick at bkushnick@lvjcc.org or 610-435-35
 71
DTSTART;TZID=America/New_York:20220425T114500
DTEND;TZID=America/New_York:20220425T140000
END:VEVENT
END:VCALENDAR
