BEGIN:VCALENDAR
PRODID:-//eluceo/ical//2.0/EN
VERSION:2.0
CALSCALE:GREGORIAN
BEGIN:VEVENT
UID:acbcb5a34cbca181c04f7637ef6590a1
DTSTAMP:20260420T021917Z
SUMMARY:11:45am JCC Friendship Circle-Virtual
DESCRIPTION:Shalom Lehigh Valley\nCommunity Calendar\nhttps://shalomlehighv
 alley.org/calendar/1145am-jcc-friendship-circlejan-3-396345\n\nA weekly so
 cial gathering including special programming. Programs vary and often incl
 ude musical entertainment\, special speakers\, demonstrations or hands-on 
 activities. Friendship Circle is a wonderful opportunity to connect with o
 thers in the community. \n\nMondays | 11:45am-2pm | Ages: 50+ | at the J
 CC\nAnnual Membership Fee: $36\n\nQuestions or to sign up\, please contact
  Beth Kushnick at bkushnick@lvjcc.org or 610-435-3571
DTSTART;TZID=America/New_York:20220117T114500
DTEND;TZID=America/New_York:20220117T140000
END:VEVENT
END:VCALENDAR
