BEGIN:VCALENDAR
PRODID:-//eluceo/ical//2.0/EN
VERSION:2.0
CALSCALE:GREGORIAN
BEGIN:VEVENT
UID:de9d7ff6e0a0e9201ece042542a0c149
DTSTAMP:20260422T084508Z
SUMMARY:11:45am JCC Friendship Circle-Virtual
DESCRIPTION:Shalom Lehigh Valley\nCommunity Calendar\nhttps://shalomlehighv
 alley.org/calendar/1145am-jcc-friendship-circlejan-398112\n\nA weekly soci
 al gathering including special programming. Programs vary and often includ
 e musical entertainment\, special speakers\, demonstrations or hands-on ac
 tivities. Friendship Circle is a wonderful opportunity to connect with oth
 ers in the community. \n\nMondays | 11:45am-2pm | Ages: 50+ | at the JCC
 \nAnnual Membership Fee: $36\n\nQuestions or to sign up\, please contact B
 eth Kushnick at bkushnick@lvjcc.org or 610-435-3571
DTSTART;TZID=America/New_York:20220207T114500
DTEND;TZID=America/New_York:20220207T140000
END:VEVENT
END:VCALENDAR
