BEGIN:VCALENDAR
PRODID:-//eluceo/ical//2.0/EN
VERSION:2.0
CALSCALE:GREGORIAN
BEGIN:VEVENT
UID:449634cb68b648474c4ffc403bd54fe4
DTSTAMP:20260420T185056Z
SUMMARY:11am JCC Cafe Ivrit
DESCRIPTION:Shalom Lehigh Valley\nCommunity Calendar\nhttps://shalomlehighv
 alley.org/calendar/11am-jcc-cafe-ivrit-dec-391217\n\nLearn basic Hebrew wi
 th the community Shaliach\, Gavriel Simon-Tov from the JFLV\, while enjoyi
 ng a time to schmooze and have coffee.This is a FREE series.
DTSTART;TZID=America/New_York:20211208T110000
DTEND;TZID=America/New_York:20211208T120000
END:VEVENT
END:VCALENDAR
