BEGIN:VCALENDAR
PRODID:-//eluceo/ical//2.0/EN
VERSION:2.0
CALSCALE:GREGORIAN
BEGIN:VEVENT
UID:6be7b2ed6efd697ddbc6a2dd3adef54c
DTSTAMP:20260420T061430Z
SUMMARY:11:00 am JCC Friendship Circle Lunch & Entertainment
DESCRIPTION:Shalom Lehigh Valley\nCommunity Calendar\nhttps://shalomlehighv
 alley.org/calendar/11am-jcc-friendship-circle-program-June-2017-182489\n\n
 Contact Martin Weinberg at 610-435-3571.
DTSTART;TZID=America/New_York:20170605T110000
DTEND;TZID=America/New_York:20170605T140000
END:VEVENT
END:VCALENDAR
