BEGIN:VCALENDAR
PRODID:-//eluceo/ical//2.0/EN
VERSION:2.0
CALSCALE:GREGORIAN
BEGIN:VEVENT
UID:494d83c3e3440249cf33499400a9794b
DTSTAMP:20260419T230824Z
SUMMARY:11:00 am JCC Friendship Circle Program
DESCRIPTION:Shalom Lehigh Valley\nCommunity Calendar\nhttps://shalomlehighv
 alley.org/calendar/11am-jcc-friendship-circle-program-sept-to-dec-2017-224
 696\n\nFor reservations & more info\, contact Cynthia at 610-739-2755.
DTSTART;TZID=America/New_York:20170911T110000
DTEND;TZID=America/New_York:20170911T140000
END:VEVENT
END:VCALENDAR
