BEGIN:VCALENDAR
PRODID:-//eluceo/ical//2.0/EN
VERSION:2.0
CALSCALE:GREGORIAN
BEGIN:VEVENT
UID:59ec4713f9a7333dad740aaa9cc6675c
DTSTAMP:20260420T054736Z
SUMMARY:11am JCC Gallery at the J Hours
DESCRIPTION:Shalom Lehigh Valley\nCommunity Calendar\nhttps://shalomlehighv
 alley.org/calendar/11am-jcc-gallery-at-the-j-hours-288380\n\nDedicated hou
 rs for JCC Gallery visits
DTSTART;TZID=America/New_York:20190109T110000
DTEND;TZID=America/New_York:20190109T140000
END:VEVENT
END:VCALENDAR
