BEGIN:VCALENDAR
PRODID:-//eluceo/ical//2.0/EN
VERSION:2.0
CALSCALE:GREGORIAN
BEGIN:VEVENT
UID:43477199c37035d4fcbdc86777feab01
DTSTAMP:20260419T183242Z
SUMMARY:11:00 am JCC PrimeTime Current Events
DESCRIPTION:Shalom Lehigh Valley\nCommunity Calendar\nhttps://shalomlehighv
 alley.org/calendar/11am-jcc-primetime-current-events-138313\n\nContact Mel
 issa Hakim at mhakim@lvjcc.org or 610-435-3571.
DTSTART;TZID=America/New_York:20150409T110000
DTEND;TZID=America/New_York:20150409T120000
END:VEVENT
END:VCALENDAR
