BEGIN:VCALENDAR
PRODID:-//eluceo/ical//2.0/EN
VERSION:2.0
CALSCALE:GREGORIAN
BEGIN:VEVENT
UID:82224e603293259a662d708e23057175
DTSTAMP:20260419T120536Z
SUMMARY:12:00 pm CBS Annual Golf Outing
DESCRIPTION:Shalom Lehigh Valley\nCommunity Calendar\nhttps://shalomlehighv
 alley.org/calendar/1200-pm-cbs-annual-golf-outing-8-19-15-153241\n\nContac
 t Tammy Watts: tammy@brithsholom.net or 610-866-8009
DTSTART;TZID=America/New_York:20150819T120000
DTEND;TZID=America/New_York:20150819T200000
END:VEVENT
END:VCALENDAR
