BEGIN:VCALENDAR
PRODID:-//eluceo/ical//2.0/EN
VERSION:2.0
CALSCALE:GREGORIAN
BEGIN:VEVENT
UID:24f25879fb27ca579571e66c25b2b7fd
DTSTAMP:20260421T140928Z
SUMMARY:12:00 pm CBS Chair Yoga
DESCRIPTION:Shalom Lehigh Valley\nCommunity Calendar\nhttps://shalomlehighv
 alley.org/calendar/1200-pm-cbs-chair-yoga-215296\n\nContact Tammy Watts: t
 ammy@brithsholom.net or 610-866-8009.\n
DTSTART;TZID=America/New_York:20170112T120000
DTEND;TZID=America/New_York:20170112T130000
END:VEVENT
END:VCALENDAR
