BEGIN:VCALENDAR
PRODID:-//eluceo/ical//2.0/EN
VERSION:2.0
CALSCALE:GREGORIAN
BEGIN:VEVENT
UID:020b84e2dffb644d767fa21095e1ec83
DTSTAMP:20260420T133405Z
SUMMARY:12:00 pm CBS Simcha Club
DESCRIPTION:Shalom Lehigh Valley\nCommunity Calendar\nhttps://shalomlehighv
 alley.org/calendar/1200-pm-cbs-simcha-club-12-8-16-212661\n\n$5 pp. Reserv
 ations required - call 610-866-6009.
DTSTART;TZID=America/New_York:20161208T120000
DTEND;TZID=America/New_York:20161208T150000
END:VEVENT
END:VCALENDAR
