BEGIN:VCALENDAR
PRODID:-//eluceo/ical//2.0/EN
VERSION:2.0
CALSCALE:GREGORIAN
BEGIN:VEVENT
UID:3e3538aaa9463165e27ed42aedbbaa7a
DTSTAMP:20260419T230500Z
SUMMARY:12:00 pm CBS Simcha Club
DESCRIPTION:Shalom Lehigh Valley\nCommunity Calendar\nhttps://shalomlehighv
 alley.org/calendar/1200-pm-cbs-simcha-club-122483\n\n$5 for lunch\; progra
 m open to all LV senior citizens. RSVP Tammy Watts: tammy@brithsholom.net 
 or 610-866-8009.
DTSTART;TZID=America/New_York:20141217T120000
DTEND;TZID=America/New_York:20141217T140000
END:VEVENT
END:VCALENDAR
