BEGIN:VCALENDAR
PRODID:-//eluceo/ical//2.0/EN
VERSION:2.0
CALSCALE:GREGORIAN
BEGIN:VEVENT
UID:484f2ba6fcc4cd3e80fd5c18d64782d6
DTSTAMP:20260420T071753Z
SUMMARY:12:00 pm CBS Simcha Club
DESCRIPTION:Shalom Lehigh Valley\nCommunity Calendar\nhttps://shalomlehighv
 alley.org/calendar/1200-pm-cbs-simcha-club-3-15-17-217109\n\nReservartions
  required. Contact Tammy Watts: tammy@brithsholom.net or 610-866-8009.
DTSTART;TZID=America/New_York:20170315T120000
DTEND;TZID=America/New_York:20170315T140000
END:VEVENT
END:VCALENDAR
