BEGIN:VCALENDAR
PRODID:-//eluceo/ical//2.0/EN
VERSION:2.0
CALSCALE:GREGORIAN
BEGIN:VEVENT
UID:adeed237aa616d7fe16abbf6af2e5ade
DTSTAMP:20260421T213552Z
SUMMARY:12:00 pm IJCU First Friday
DESCRIPTION:Shalom Lehigh Valley\nCommunity Calendar\nhttps://shalomlehighv
 alley.org/calendar/1200-pm-ijcu-first-friday-4-17-15-106578\n\nContact Chr
 istine Bartholomew: bartholo@muhlenberg.edu or 484-664-3470.
DTSTART;TZID=America/New_York:20150417T120000
DTEND;TZID=America/New_York:20150417T130000
END:VEVENT
END:VCALENDAR
