BEGIN:VCALENDAR
PRODID:-//eluceo/ical//2.0/EN
VERSION:2.0
CALSCALE:GREGORIAN
BEGIN:VEVENT
UID:b3b4062d1f54792d5580cb3cfc4d572d
DTSTAMP:20260420T200103Z
SUMMARY:12:00 pm JCC Finance Committee Meeting
DESCRIPTION:Shalom Lehigh Valley\nCommunity Calendar\nhttps://shalomlehighv
 alley.org/calendar/1200-pm-jcc-finance-committee-meeting-Oct-Nov-Dec-2015-
 139369\n\nContact Jeffrey Rembrandt: jrembrandt@lvjcc.org or 610-435-3571 
 x120.
DTSTART;TZID=America/New_York:20151021T120000
DTEND;TZID=America/New_York:20151021T133000
END:VEVENT
END:VCALENDAR
