BEGIN:VCALENDAR
PRODID:-//eluceo/ical//2.0/EN
VERSION:2.0
CALSCALE:GREGORIAN
BEGIN:VEVENT
UID:f170a825701d8924557f049f92e3fb28
DTSTAMP:20260419T190127Z
SUMMARY:12:00 pm JCC Lender/Donor Luncheon
DESCRIPTION:Shalom Lehigh Valley\nCommunity Calendar\nhttps://shalomlehighv
 alley.org/calendar/1200-pm-jcc-lenderdonor-luncheon-9-21-16-202656\n\nCont
 act Jeffrey Rembrandt: jrembrandt@lvjcc.org or 610-435-3571 x120.
DTSTART;TZID=America/New_York:20160921T120000
DTEND;TZID=America/New_York:20160921T140000
END:VEVENT
END:VCALENDAR
