BEGIN:VCALENDAR
PRODID:-//eluceo/ical//2.0/EN
VERSION:2.0
CALSCALE:GREGORIAN
BEGIN:VEVENT
UID:de5206791c455abca7d91154e1fbc3d1
DTSTAMP:20260420T045908Z
SUMMARY:12:00 pm JCC PrimeTime Lunch & Lecture
DESCRIPTION:Shalom Lehigh Valley\nCommunity Calendar\nhttps://shalomlehighv
 alley.org/calendar/1200-pm-jcc-primetime-lunch-lecture-2-20-15-127003\n\n
 “Telling Your Story” with Debbie Zoller\, executive director of Jewish
  Family Service of the Lehigh Valley.\n\n$5 for lunch and program.\n\nBrou
 ght to you by PrimeTime at the J\, a division of Jewish Senior Life Connec
 tion.
DTSTART;TZID=America/New_York:20150220T120000
DTEND;TZID=America/New_York:20150220T133000
END:VEVENT
END:VCALENDAR
