BEGIN:VCALENDAR
PRODID:-//eluceo/ical//2.0/EN
VERSION:2.0
CALSCALE:GREGORIAN
BEGIN:VEVENT
UID:a178412f7d33de687928be6e9a1d9497
DTSTAMP:20260419T185331Z
SUMMARY:12:00 pm KI Lunch and Hockey
DESCRIPTION:Shalom Lehigh Valley\nCommunity Calendar\nhttps://shalomlehighv
 alley.org/calendar/1200-pm-ki-lunch-and-hockey-129242\n\nCost $25. RSVP wi
 th payment by March 13-online at KI website or mail to KI office.
DTSTART;TZID=America/New_York:20150329T120000
DTEND;TZID=America/New_York:20150329T170000
END:VEVENT
END:VCALENDAR
