BEGIN:VCALENDAR
PRODID:-//eluceo/ical//2.0/EN
VERSION:2.0
CALSCALE:GREGORIAN
BEGIN:VEVENT
UID:c580a69f3eb7ad54dab0300e13dfbdc2
DTSTAMP:20260419T231204Z
SUMMARY:12:00 pm TBE Cemetery Service and Genizah Ceremony
DESCRIPTION:Shalom Lehigh Valley\nCommunity Calendar\nhttps://shalomlehighv
 alley.org/calendar/1200-pm-tbe-cemetery-service-and-genizah-ceremony-3667\
 n\n12:00 pm TBE Cemetery Service and Genizah Ceremony
DTSTART;TZID=America/New_York:20130908T120000
DTEND;TZID=America/New_York:20130908T130000
END:VEVENT
END:VCALENDAR
