BEGIN:VCALENDAR
PRODID:-//eluceo/ical//2.0/EN
VERSION:2.0
CALSCALE:GREGORIAN
BEGIN:VEVENT
UID:f5b261c5c5c3d47877eb5cadc2d8abd2
DTSTAMP:20260419T215234Z
SUMMARY:Women's Division Lunch and Learn
DESCRIPTION:Shalom Lehigh Valley\nCommunity Calendar\nhttps://shalomlehighv
 alley.org/calendar/1200pm-jflv-womens-division-lunch-and-learndecember-212
 937\n\nLocal gallery owner Santa Bannon will present the work of Norman Ru
 bington\, sculptor\, painter\, collager\, printmaker\, illustrator\, filmm
 aker and author. Rubington’s career parallels those of some of the great
  names in mid-20th century art history. \n\nA native of Connecticut\, Rub
 ington studied at the Yale School of Fine Arts and the Ecole des Beaux Art
  in France. He continued working on his art up until the day he died in 19
 91.\n\nRubington’s cousin\, Ann May Greene\, the founding curator o...
DTSTART;TZID=America/New_York:20161201T120000
DTEND;TZID=America/New_York:20161201T133000
END:VEVENT
END:VCALENDAR
