BEGIN:VCALENDAR
PRODID:-//eluceo/ical//2.0/EN
VERSION:2.0
CALSCALE:GREGORIAN
BEGIN:VEVENT
UID:ef64b4bdfdeab00e4239ffee27130c1a
DTSTAMP:20260420T210951Z
SUMMARY:12:15 pm TBE Sisterhood Mitzvah Project 2022
DESCRIPTION:Shalom Lehigh Valley\nCommunity Calendar\nhttps://shalomlehighv
 alley.org/calendar/1215-pm-tbe-sisterhood-mitzvah-project-2022-396482\n\n1
 2:15 pm TBE Sisterhood Mitzvah Project 2022
DTSTART;TZID=America/New_York:20220109T001500
DTEND;TZID=America/New_York:20220109T011500
END:VEVENT
END:VCALENDAR
