BEGIN:VCALENDAR
PRODID:-//eluceo/ical//2.0/EN
VERSION:2.0
CALSCALE:GREGORIAN
BEGIN:VEVENT
UID:334255e0d427c0b565ef45571c7b0687
DTSTAMP:20260420T184947Z
SUMMARY:12:30PM JCC Stagemakers Auditions
DESCRIPTION:Shalom Lehigh Valley\nCommunity Calendar\nhttps://shalomlehighv
 alley.org/calendar/1230pm-jcc-stagemakers-auditions-3583\n\n12:30PM JCC St
 agemakers Auditions
DTSTART;TZID=America/New_York:20131006T123000
DTEND;TZID=America/New_York:20131006T160000
END:VEVENT
END:VCALENDAR
